
BEGIN:VCALENDAR
PRODID:-//Google Inc//Google Calendar 70.9054//EN
VERSION:2.0
CALSCALE:GREGORIAN  
METHOD:PUBLISH

BEGIN:VEVENT
SUMMARY:« NC2021, la Nouvelle-Calédonie face à son destin »
LOCATION:Maison des Echevins
UID:0ABC6FF1-AFD5-DDBC-D1F7EB6CE8544317
DTSTAMP:20260422T101942L
DTSTART:20211020T220000Z
DTEND:20211020T220000Z
DESCRIPTION: 
CLASS:PUBLIC
END:VEVENT

END:VCALENDAR
