
BEGIN:VCALENDAR
PRODID:-//Google Inc//Google Calendar 70.9054//EN
VERSION:2.0
CALSCALE:GREGORIAN  
METHOD:PUBLISH

BEGIN:VEVENT
SUMMARY:Exposition "De ma fenêtre...", Un printemps singulier
LOCATION:Maison des Échevins, 22 rue de la Barre - 7125 Cluny
UID:0B1474B3-B0DD-B0B9-280BDB9A2CABC095
DTSTAMP:20260422T102919L
DTSTART:20200918T220000Z
DTEND:20200918T220000Z
DESCRIPTION: A la fin du mois, une vingtaine d'artistes, et pas seulement l&egrave;vent le voile sur leur confinement...&nbsp;L'occasion de red&eacute;couvrir la maison des Echevins.Du 19 au 21 septembre : ouverture de 10h &agrave; 18hJusqu'au 2 octobre: ouverture sur demande &agrave; contact@clunydelapaix.orgEntr&eacute;e libre, &agrave; votre bon coeur.#journ&eacute;esdupatrimoine, 19-20 septembre "Patrimoine et &eacute;ducation : apprendre pour la vie !".#peaceday, 21 septembre "fa&ccedil;onner la Paix ensemble"
CLASS:PUBLIC
END:VEVENT

END:VCALENDAR
